BEGIN:VCALENDAR
VERSION:2.0
CALSCALE:GREGORIAN
PRODID:-//WordPress//RSVPMaker//EN
METHOD:REQUEST
BEGIN:VEVENT
DTSTAMP:20260423T160600Z
UID:37BC2F75BF1BCFE8450A1A41C200364C@rsvpmaker.com
SEQUENCE:0
STATUS:CONFIRMED
DTSTART:20180125T030000Z
DTEND:20180125T040000Z
LOCATION:See\: https\://steampac.org/rsvpmaker/founders-meeting-2018-0
 1-24/
SUMMARY:Founders Meeting
DESCRIPTION:Event info\: https\://steampac.org/rsvpmaker/founders-meet
 ing-2018-01-24/
END:VEVENT
END:VCALENDAR